BEGIN:VCALENDAR
VERSION:2.0
PRODID:-//SEEyou Neumarkt an der Ybbs - ECPv6.15.20//NONSGML v1.0//EN
CALSCALE:GREGORIAN
METHOD:PUBLISH
X-WR-CALNAME:SEEyou Neumarkt an der Ybbs
X-ORIGINAL-URL:https://see-you.at
X-WR-CALDESC:Veranstaltungen für SEEyou Neumarkt an der Ybbs
REFRESH-INTERVAL;VALUE=DURATION:PT1H
X-Robots-Tag:noindex
X-PUBLISHED-TTL:PT1H
BEGIN:VTIMEZONE
TZID:Europe/Vienna
BEGIN:DAYLIGHT
TZOFFSETFROM:+0100
TZOFFSETTO:+0200
TZNAME:CEST
DTSTART:20250330T010000
END:DAYLIGHT
BEGIN:STANDARD
TZOFFSETFROM:+0200
TZOFFSETTO:+0100
TZNAME:CET
DTSTART:20251026T010000
END:STANDARD
BEGIN:DAYLIGHT
TZOFFSETFROM:+0100
TZOFFSETTO:+0200
TZNAME:CEST
DTSTART:20260329T010000
END:DAYLIGHT
BEGIN:STANDARD
TZOFFSETFROM:+0200
TZOFFSETTO:+0100
TZNAME:CET
DTSTART:20261025T010000
END:STANDARD
BEGIN:DAYLIGHT
TZOFFSETFROM:+0100
TZOFFSETTO:+0200
TZNAME:CEST
DTSTART:20270328T010000
END:DAYLIGHT
BEGIN:STANDARD
TZOFFSETFROM:+0200
TZOFFSETTO:+0100
TZNAME:CET
DTSTART:20271031T010000
END:STANDARD
END:VTIMEZONE
BEGIN:VEVENT
DTSTART;TZID=Europe/Vienna:20260606T200000
DTEND;TZID=Europe/Vienna:20260606T200000
DTSTAMP:20260422T230432
CREATED:20251031T113733Z
LAST-MODIFIED:20251103T135602Z
UID:10000005-1780776000-1780776000@see-you.at
SUMMARY:Hommage an Ludwig Hirsch
DESCRIPTION:24. Juli 2026\n\n			\n				\n				\n					\n		\n				\n			\n						\n				\n							\n			\n						\n		\n						\n				\n				\n				\n					\n		\n		\n\n\n20:00\n\n			\n				\n				\n					\n		\n				\n			\n						\n				\n							\n			\n						\n		\n						\n				\n				\n				\n					\n				\n				\n	\n		SEEbühne	\n		\n	\n				\n				\n					\n		\n					\n		\n				\n				\n					\n	Boris Bukowski – BB PRIVAT – TEIL 3				\n				\n				\n				\n					\n		\n	Tickets kaufen\n\n				\n				\n					\n		\n					\n		\n				\n						\n					\n			\n						\n						\n					\n			\n						\n				\n					\n	\n				\n				\n					\n		\n				\n			\n						\n				\n									Konzert & KabarettSeit 2 Jahren kriegen nicht nur alle Band-Konzerte sondern auch das Duo-Programm jedes einzelne Mal Standing Ovations\, so auch der neue Teil 3\, dessen Premiere kürzlich gefeiert wurde. BB zündet ein Feuerwerk der lustigsten Anekdoten aus einem prallen Musikerleben\, vom Filmdreh mit Franco Nero\, vom Dinner mit dem Oligarchen\, von privaten Seifen-Opern und Sitcom beim Arzt; und die Hoppalas und Gags lassen jeden mit einem Lächeln heimgehen. Dazwischen spielt er mit seinem virtuosen Gitarristen Jaxx Bahaudeen eine Set List mit musikalischen Meilensteinen wie „euer Fritze mit der Spritze“\, „Trag meine Liebe wie einen Mantel“\, „Fandango“\, „mitten ins Herz“ (einer der Soundtracks der Netflix-Serie „Der Pass“ mit Nicholas Ofczarek)\, „Kokain“ und den Highlights aus dem vielgepriesenen letzten Album; Songs\, für die er den Amadeus Award für sein Lebenswerk bekommen hat\, Lieder ohne Ablaufdatum\, Worte\, die bleiben\, wenn die Musik aufhört zu spielen. 								\n				\n					\n		\n					\n		\n					\n		\n					\n		\n				\n						\n					\n			\n						\n				\n							\n			\n						\n		\n						\n				\n				\n				\n					\n				\n				\n	\n		SEEbühne	\n	\n	\n\nFreizeitzentrum 6\n	\n		\n		Neumarkt\,\n\n\n	3371\n\n	Austria\n\n\n\n\n	Google Karte anzeigen \n\n\n		\n	\n				\n				\n					\n		\n					\n		\n				\n						\n					\n			\n						\n						\n					\n			\n						\n				\n																														\n				\n				\n				\n									Ticketpreise zuzüglich Ö-Ticket-Gebühren. Bei Kauf auf dem Gemeindeamt entfallen die Gebühren. Abendkasse: Nach Verfügbarkeit\, Kartenpreis + € 5\,- 								\n				\n					\n		\n				\n			\n						\n				\n					Tickets				\n				\n				\n				\n					\n		\n			\n	Sitzplatz Kategorie 1\n		\n	€ 30\,-\n			\n	Sitzplatz Kategorie 2\n		\n	€ 25\,-\n	\n\n				\n				\n				\n				\n					\n		\n	Tickets kaufen\n\n				\n				\n					\n		\n					\n		\n					\n		\n					\n		\n				\n						\n					\n			\n						\n				\n					\n	« Alle Veranstaltungen
URL:https://see-you.at/event/hommage-an-ludwig-hirsch/
LOCATION:SEEbühne\, Freizeitzentrum 6\, Neumarkt\, 3371\, Austria
CATEGORIES:2026
ATTACH;FMTTYPE=image/png:https://see-you.at/wp-content/uploads/2025/10/LH_cUniversal-Music_750-x-500-px.png
END:VEVENT
BEGIN:VEVENT
DTSTART;TZID=Europe/Vienna:20260710T200000
DTEND;TZID=Europe/Vienna:20260710T200000
DTSTAMP:20260422T230432
CREATED:20251031T121147Z
LAST-MODIFIED:20251103T134327Z
UID:10000006-1783713600-1783713600@see-you.at
SUMMARY:Auf A Wort
DESCRIPTION:24. Juli 2026\n\n			\n				\n				\n					\n		\n				\n			\n						\n				\n							\n			\n						\n		\n						\n				\n				\n				\n					\n		\n		\n\n\n20:00\n\n			\n				\n				\n					\n		\n				\n			\n						\n				\n							\n			\n						\n		\n						\n				\n				\n				\n					\n				\n				\n	\n		SEEbühne	\n		\n	\n				\n				\n					\n		\n					\n		\n				\n				\n					\n	Boris Bukowski – BB PRIVAT – TEIL 3				\n				\n				\n				\n					\n		\n	Tickets kaufen\n\n				\n				\n					\n		\n					\n		\n				\n						\n					\n			\n						\n						\n					\n			\n						\n				\n					\n	\n				\n				\n					\n		\n				\n			\n						\n				\n									Konzert & KabarettSeit 2 Jahren kriegen nicht nur alle Band-Konzerte sondern auch das Duo-Programm jedes einzelne Mal Standing Ovations\, so auch der neue Teil 3\, dessen Premiere kürzlich gefeiert wurde. BB zündet ein Feuerwerk der lustigsten Anekdoten aus einem prallen Musikerleben\, vom Filmdreh mit Franco Nero\, vom Dinner mit dem Oligarchen\, von privaten Seifen-Opern und Sitcom beim Arzt; und die Hoppalas und Gags lassen jeden mit einem Lächeln heimgehen. Dazwischen spielt er mit seinem virtuosen Gitarristen Jaxx Bahaudeen eine Set List mit musikalischen Meilensteinen wie „euer Fritze mit der Spritze“\, „Trag meine Liebe wie einen Mantel“\, „Fandango“\, „mitten ins Herz“ (einer der Soundtracks der Netflix-Serie „Der Pass“ mit Nicholas Ofczarek)\, „Kokain“ und den Highlights aus dem vielgepriesenen letzten Album; Songs\, für die er den Amadeus Award für sein Lebenswerk bekommen hat\, Lieder ohne Ablaufdatum\, Worte\, die bleiben\, wenn die Musik aufhört zu spielen. 								\n				\n					\n		\n					\n		\n					\n		\n					\n		\n				\n						\n					\n			\n						\n				\n							\n			\n						\n		\n						\n				\n				\n				\n					\n				\n				\n	\n		SEEbühne	\n	\n	\n\nFreizeitzentrum 6\n	\n		\n		Neumarkt\,\n\n\n	3371\n\n	Austria\n\n\n\n\n	Google Karte anzeigen \n\n\n		\n	\n				\n				\n					\n		\n					\n		\n				\n						\n					\n			\n						\n						\n					\n			\n						\n				\n																														\n				\n				\n				\n									Ticketpreise zuzüglich Ö-Ticket-Gebühren. Bei Kauf auf dem Gemeindeamt entfallen die Gebühren. Abendkasse: Nach Verfügbarkeit\, Kartenpreis + € 5\,- 								\n				\n					\n		\n				\n			\n						\n				\n					Tickets				\n				\n				\n				\n					\n		\n			\n	Sitzplatz Kategorie 1\n		\n	€ 30\,-\n			\n	Sitzplatz Kategorie 2\n		\n	€ 25\,-\n	\n\n				\n				\n				\n				\n					\n		\n	Tickets kaufen\n\n				\n				\n					\n		\n					\n		\n					\n		\n					\n		\n				\n						\n					\n			\n						\n				\n					\n	« Alle Veranstaltungen
URL:https://see-you.at/event/auf-a-wort/
LOCATION:SEEbühne\, Freizeitzentrum 6\, Neumarkt\, 3371\, Austria
CATEGORIES:2026
ATTACH;FMTTYPE=image/jpeg:https://see-you.at/wp-content/uploads/2025/10/03.-Pressefoto-1-AAW1_Logo-scaled.jpg
END:VEVENT
BEGIN:VEVENT
DTSTART;TZID=Europe/Vienna:20260724T200000
DTEND;TZID=Europe/Vienna:20260724T200000
DTSTAMP:20260422T230432
CREATED:20260422T143707Z
LAST-MODIFIED:20260422T163836Z
UID:10000011-1784923200-1784923200@see-you.at
SUMMARY:Boris Bukowski – BB PRIVAT – TEIL 3
DESCRIPTION:24. Juli 2026\n\n			\n				\n				\n					\n		\n				\n			\n						\n				\n							\n			\n						\n		\n						\n				\n				\n				\n					\n		\n		\n\n\n20:00\n\n			\n				\n				\n					\n		\n				\n			\n						\n				\n							\n			\n						\n		\n						\n				\n				\n				\n					\n				\n				\n	\n		SEEbühne	\n		\n	\n				\n				\n					\n		\n					\n		\n				\n				\n					\n	Boris Bukowski – BB PRIVAT – TEIL 3				\n				\n				\n				\n					\n		\n	Tickets kaufen\n\n				\n				\n					\n		\n					\n		\n				\n						\n					\n			\n						\n						\n					\n			\n						\n				\n					\n	\n				\n				\n					\n		\n				\n			\n						\n				\n									Konzert & KabarettSeit 2 Jahren kriegen nicht nur alle Band-Konzerte sondern auch das Duo-Programm jedes einzelne Mal Standing Ovations\, so auch der neue Teil 3\, dessen Premiere kürzlich gefeiert wurde. BB zündet ein Feuerwerk der lustigsten Anekdoten aus einem prallen Musikerleben\, vom Filmdreh mit Franco Nero\, vom Dinner mit dem Oligarchen\, von privaten Seifen-Opern und Sitcom beim Arzt; und die Hoppalas und Gags lassen jeden mit einem Lächeln heimgehen. Dazwischen spielt er mit seinem virtuosen Gitarristen Jaxx Bahaudeen eine Set List mit musikalischen Meilensteinen wie „euer Fritze mit der Spritze“\, „Trag meine Liebe wie einen Mantel“\, „Fandango“\, „mitten ins Herz“ (einer der Soundtracks der Netflix-Serie „Der Pass“ mit Nicholas Ofczarek)\, „Kokain“ und den Highlights aus dem vielgepriesenen letzten Album; Songs\, für die er den Amadeus Award für sein Lebenswerk bekommen hat\, Lieder ohne Ablaufdatum\, Worte\, die bleiben\, wenn die Musik aufhört zu spielen. 								\n				\n					\n		\n					\n		\n					\n		\n					\n		\n				\n						\n					\n			\n						\n				\n							\n			\n						\n		\n						\n				\n				\n				\n					\n				\n				\n	\n		SEEbühne	\n	\n	\n\nFreizeitzentrum 6\n	\n		\n		Neumarkt\,\n\n\n	3371\n\n	Austria\n\n\n\n\n	Google Karte anzeigen \n\n\n		\n	\n				\n				\n					\n		\n					\n		\n				\n						\n					\n			\n						\n						\n					\n			\n						\n				\n																														\n				\n				\n				\n									Ticketpreise zuzüglich Ö-Ticket-Gebühren. Bei Kauf auf dem Gemeindeamt entfallen die Gebühren. Abendkasse: Nach Verfügbarkeit\, Kartenpreis + € 5\,- 								\n				\n					\n		\n				\n			\n						\n				\n					Tickets				\n				\n				\n				\n					\n		\n			\n	Sitzplatz Kategorie 1\n		\n	€ 30\,-\n			\n	Sitzplatz Kategorie 2\n		\n	€ 25\,-\n	\n\n				\n				\n				\n				\n					\n		\n	Tickets kaufen\n\n				\n				\n					\n		\n					\n		\n					\n		\n					\n		\n				\n						\n					\n			\n						\n				\n					\n	« Alle Veranstaltungen
URL:https://see-you.at/event/boris-bukowski-bb-privat-teil-3/
LOCATION:SEEbühne\, Freizeitzentrum 6\, Neumarkt\, 3371\, Austria
CATEGORIES:2026
ATTACH;FMTTYPE=image/jpeg:https://see-you.at/wp-content/uploads/2026/04/B_Bukowski_Orpheum-79-scaled.jpg
END:VEVENT
BEGIN:VEVENT
DTSTART;TZID=Europe/Vienna:20260808T190000
DTEND;TZID=Europe/Vienna:20260808T190000
DTSTAMP:20260422T230432
CREATED:20251103T101931Z
LAST-MODIFIED:20251103T134530Z
UID:10000007-1786215600-1786215600@see-you.at
SUMMARY:Schlagernacht am See
DESCRIPTION:24. Juli 2026\n\n			\n				\n				\n					\n		\n				\n			\n						\n				\n							\n			\n						\n		\n						\n				\n				\n				\n					\n		\n		\n\n\n20:00\n\n			\n				\n				\n					\n		\n				\n			\n						\n				\n							\n			\n						\n		\n						\n				\n				\n				\n					\n				\n				\n	\n		SEEbühne	\n		\n	\n				\n				\n					\n		\n					\n		\n				\n				\n					\n	Boris Bukowski – BB PRIVAT – TEIL 3				\n				\n				\n				\n					\n		\n	Tickets kaufen\n\n				\n				\n					\n		\n					\n		\n				\n						\n					\n			\n						\n						\n					\n			\n						\n				\n					\n	\n				\n				\n					\n		\n				\n			\n						\n				\n									Konzert & KabarettSeit 2 Jahren kriegen nicht nur alle Band-Konzerte sondern auch das Duo-Programm jedes einzelne Mal Standing Ovations\, so auch der neue Teil 3\, dessen Premiere kürzlich gefeiert wurde. BB zündet ein Feuerwerk der lustigsten Anekdoten aus einem prallen Musikerleben\, vom Filmdreh mit Franco Nero\, vom Dinner mit dem Oligarchen\, von privaten Seifen-Opern und Sitcom beim Arzt; und die Hoppalas und Gags lassen jeden mit einem Lächeln heimgehen. Dazwischen spielt er mit seinem virtuosen Gitarristen Jaxx Bahaudeen eine Set List mit musikalischen Meilensteinen wie „euer Fritze mit der Spritze“\, „Trag meine Liebe wie einen Mantel“\, „Fandango“\, „mitten ins Herz“ (einer der Soundtracks der Netflix-Serie „Der Pass“ mit Nicholas Ofczarek)\, „Kokain“ und den Highlights aus dem vielgepriesenen letzten Album; Songs\, für die er den Amadeus Award für sein Lebenswerk bekommen hat\, Lieder ohne Ablaufdatum\, Worte\, die bleiben\, wenn die Musik aufhört zu spielen. 								\n				\n					\n		\n					\n		\n					\n		\n					\n		\n				\n						\n					\n			\n						\n				\n							\n			\n						\n		\n						\n				\n				\n				\n					\n				\n				\n	\n		SEEbühne	\n	\n	\n\nFreizeitzentrum 6\n	\n		\n		Neumarkt\,\n\n\n	3371\n\n	Austria\n\n\n\n\n	Google Karte anzeigen \n\n\n		\n	\n				\n				\n					\n		\n					\n		\n				\n						\n					\n			\n						\n						\n					\n			\n						\n				\n																														\n				\n				\n				\n									Ticketpreise zuzüglich Ö-Ticket-Gebühren. Bei Kauf auf dem Gemeindeamt entfallen die Gebühren. Abendkasse: Nach Verfügbarkeit\, Kartenpreis + € 5\,- 								\n				\n					\n		\n				\n			\n						\n				\n					Tickets				\n				\n				\n				\n					\n		\n			\n	Sitzplatz Kategorie 1\n		\n	€ 30\,-\n			\n	Sitzplatz Kategorie 2\n		\n	€ 25\,-\n	\n\n				\n				\n				\n				\n					\n		\n	Tickets kaufen\n\n				\n				\n					\n		\n					\n		\n					\n		\n					\n		\n				\n						\n					\n			\n						\n				\n					\n	« Alle Veranstaltungen
URL:https://see-you.at/event/schlagernacht-am-see/
LOCATION:SEEbühne\, Freizeitzentrum 6\, Neumarkt\, 3371\, Austria
CATEGORIES:2026
ATTACH;FMTTYPE=image/png:https://see-you.at/wp-content/uploads/2025/11/Schlagernacht-2026_thumbnail-scaled.png
END:VEVENT
BEGIN:VEVENT
DTSTART;TZID=Europe/Vienna:20261117T200000
DTEND;TZID=Europe/Vienna:20261117T200000
DTSTAMP:20260422T230432
CREATED:20251103T102616Z
LAST-MODIFIED:20251103T132403Z
UID:10000009-1794945600-1794945600@see-you.at
SUMMARY:Omar Sarsam
DESCRIPTION:24. Juli 2026\n\n			\n				\n				\n					\n		\n				\n			\n						\n				\n							\n			\n						\n		\n						\n				\n				\n				\n					\n		\n		\n\n\n20:00\n\n			\n				\n				\n					\n		\n				\n			\n						\n				\n							\n			\n						\n		\n						\n				\n				\n				\n					\n				\n				\n	\n		SEEbühne	\n		\n	\n				\n				\n					\n		\n					\n		\n				\n				\n					\n	Boris Bukowski – BB PRIVAT – TEIL 3				\n				\n				\n				\n					\n		\n	Tickets kaufen\n\n				\n				\n					\n		\n					\n		\n				\n						\n					\n			\n						\n						\n					\n			\n						\n				\n					\n	\n				\n				\n					\n		\n				\n			\n						\n				\n									Konzert & KabarettSeit 2 Jahren kriegen nicht nur alle Band-Konzerte sondern auch das Duo-Programm jedes einzelne Mal Standing Ovations\, so auch der neue Teil 3\, dessen Premiere kürzlich gefeiert wurde. BB zündet ein Feuerwerk der lustigsten Anekdoten aus einem prallen Musikerleben\, vom Filmdreh mit Franco Nero\, vom Dinner mit dem Oligarchen\, von privaten Seifen-Opern und Sitcom beim Arzt; und die Hoppalas und Gags lassen jeden mit einem Lächeln heimgehen. Dazwischen spielt er mit seinem virtuosen Gitarristen Jaxx Bahaudeen eine Set List mit musikalischen Meilensteinen wie „euer Fritze mit der Spritze“\, „Trag meine Liebe wie einen Mantel“\, „Fandango“\, „mitten ins Herz“ (einer der Soundtracks der Netflix-Serie „Der Pass“ mit Nicholas Ofczarek)\, „Kokain“ und den Highlights aus dem vielgepriesenen letzten Album; Songs\, für die er den Amadeus Award für sein Lebenswerk bekommen hat\, Lieder ohne Ablaufdatum\, Worte\, die bleiben\, wenn die Musik aufhört zu spielen. 								\n				\n					\n		\n					\n		\n					\n		\n					\n		\n				\n						\n					\n			\n						\n				\n							\n			\n						\n		\n						\n				\n				\n				\n					\n				\n				\n	\n		SEEbühne	\n	\n	\n\nFreizeitzentrum 6\n	\n		\n		Neumarkt\,\n\n\n	3371\n\n	Austria\n\n\n\n\n	Google Karte anzeigen \n\n\n		\n	\n				\n				\n					\n		\n					\n		\n				\n						\n					\n			\n						\n						\n					\n			\n						\n				\n																														\n				\n				\n				\n									Ticketpreise zuzüglich Ö-Ticket-Gebühren. Bei Kauf auf dem Gemeindeamt entfallen die Gebühren. Abendkasse: Nach Verfügbarkeit\, Kartenpreis + € 5\,- 								\n				\n					\n		\n				\n			\n						\n				\n					Tickets				\n				\n				\n				\n					\n		\n			\n	Sitzplatz Kategorie 1\n		\n	€ 30\,-\n			\n	Sitzplatz Kategorie 2\n		\n	€ 25\,-\n	\n\n				\n				\n				\n				\n					\n		\n	Tickets kaufen\n\n				\n				\n					\n		\n					\n		\n					\n		\n					\n		\n				\n						\n					\n			\n						\n				\n					\n	« Alle Veranstaltungen
URL:https://see-you.at/event/omar-sarsam/
LOCATION:Gemeindesaal\, Schulstraße 8\, Neumarkt\, Niederösterreich\, 3371\, Austria
CATEGORIES:2026
ATTACH;FMTTYPE=image/jpeg:https://see-you.at/wp-content/uploads/2025/10/OMAR-SARSAM-STIMMT-_-Quadrat-copyright-Stefan-Gergely-scaled.jpg
END:VEVENT
BEGIN:VEVENT
DTSTART;TZID=Europe/Vienna:20261121T193000
DTEND;TZID=Europe/Vienna:20261121T193000
DTSTAMP:20260422T230432
CREATED:20251103T103325Z
LAST-MODIFIED:20251103T133918Z
UID:10000010-1795289400-1795289400@see-you.at
SUMMARY:Wolfgang Moser
DESCRIPTION:24. Juli 2026\n\n			\n				\n				\n					\n		\n				\n			\n						\n				\n							\n			\n						\n		\n						\n				\n				\n				\n					\n		\n		\n\n\n20:00\n\n			\n				\n				\n					\n		\n				\n			\n						\n				\n							\n			\n						\n		\n						\n				\n				\n				\n					\n				\n				\n	\n		SEEbühne	\n		\n	\n				\n				\n					\n		\n					\n		\n				\n				\n					\n	Boris Bukowski – BB PRIVAT – TEIL 3				\n				\n				\n				\n					\n		\n	Tickets kaufen\n\n				\n				\n					\n		\n					\n		\n				\n						\n					\n			\n						\n						\n					\n			\n						\n				\n					\n	\n				\n				\n					\n		\n				\n			\n						\n				\n									Konzert & KabarettSeit 2 Jahren kriegen nicht nur alle Band-Konzerte sondern auch das Duo-Programm jedes einzelne Mal Standing Ovations\, so auch der neue Teil 3\, dessen Premiere kürzlich gefeiert wurde. BB zündet ein Feuerwerk der lustigsten Anekdoten aus einem prallen Musikerleben\, vom Filmdreh mit Franco Nero\, vom Dinner mit dem Oligarchen\, von privaten Seifen-Opern und Sitcom beim Arzt; und die Hoppalas und Gags lassen jeden mit einem Lächeln heimgehen. Dazwischen spielt er mit seinem virtuosen Gitarristen Jaxx Bahaudeen eine Set List mit musikalischen Meilensteinen wie „euer Fritze mit der Spritze“\, „Trag meine Liebe wie einen Mantel“\, „Fandango“\, „mitten ins Herz“ (einer der Soundtracks der Netflix-Serie „Der Pass“ mit Nicholas Ofczarek)\, „Kokain“ und den Highlights aus dem vielgepriesenen letzten Album; Songs\, für die er den Amadeus Award für sein Lebenswerk bekommen hat\, Lieder ohne Ablaufdatum\, Worte\, die bleiben\, wenn die Musik aufhört zu spielen. 								\n				\n					\n		\n					\n		\n					\n		\n					\n		\n				\n						\n					\n			\n						\n				\n							\n			\n						\n		\n						\n				\n				\n				\n					\n				\n				\n	\n		SEEbühne	\n	\n	\n\nFreizeitzentrum 6\n	\n		\n		Neumarkt\,\n\n\n	3371\n\n	Austria\n\n\n\n\n	Google Karte anzeigen \n\n\n		\n	\n				\n				\n					\n		\n					\n		\n				\n						\n					\n			\n						\n						\n					\n			\n						\n				\n																														\n				\n				\n				\n									Ticketpreise zuzüglich Ö-Ticket-Gebühren. Bei Kauf auf dem Gemeindeamt entfallen die Gebühren. Abendkasse: Nach Verfügbarkeit\, Kartenpreis + € 5\,- 								\n				\n					\n		\n				\n			\n						\n				\n					Tickets				\n				\n				\n				\n					\n		\n			\n	Sitzplatz Kategorie 1\n		\n	€ 30\,-\n			\n	Sitzplatz Kategorie 2\n		\n	€ 25\,-\n	\n\n				\n				\n				\n				\n					\n		\n	Tickets kaufen\n\n				\n				\n					\n		\n					\n		\n					\n		\n					\n		\n				\n						\n					\n			\n						\n				\n					\n	« Alle Veranstaltungen
URL:https://see-you.at/event/wolfgang-moser/
LOCATION:Gemeindesaal\, Schulstraße 8\, Neumarkt\, Niederösterreich\, 3371\, Austria
CATEGORIES:2026
ATTACH;FMTTYPE=image/jpeg:https://see-you.at/wp-content/uploads/2025/10/Zylinder-scaled.jpg
END:VEVENT
END:VCALENDAR